BEGIN:VCALENDAR
VERSION:2.0
PRODID:icalendar-ruby
CALSCALE:GREGORIAN
METHOD:PUBLISH
BEGIN:VEVENT
DTSTAMP:20260423T044114Z
UID:12-1288462@gwcfellowship.org
DTSTART:20261025T163000Z
DTEND:20261025T173000Z
CLASS:PUBLIC
CREATED:20260422T200721
DESCRIPTION:Sunday Worship
LAST-MODIFIED:20260422T200721
LOCATION:1668 S. Sycamore St. Petersburg\, VA 23805
SUMMARY:Sunday Worship
URL;VALUE=URI:https://www.gwcfellowship.org/events/sunday-worship/2026-10-2
 5
END:VEVENT
END:VCALENDAR
