BEGIN:VCALENDAR
VERSION:2.0
PRODID:icalendar-ruby
CALSCALE:GREGORIAN
METHOD:PUBLISH
BEGIN:VEVENT
DTSTAMP:20260423T015759Z
UID:12-1288243@gwcfellowship.org
DTSTART:20261011T163000Z
DTEND:20261011T173000Z
CLASS:PUBLIC
CREATED:20260422T171303
DESCRIPTION:Sunday Worship
LAST-MODIFIED:20260422T171303
LOCATION:1668 S. Sycamore St. Petersburg\, VA 23805
SUMMARY:Sunday Worship
URL;VALUE=URI:https://www.gwcfellowship.org/events/sunday-worship/2026-10-1
 1
END:VEVENT
END:VCALENDAR
