BEGIN:VCALENDAR
VERSION:2.0
PRODID:icalendar-ruby
CALSCALE:GREGORIAN
METHOD:PUBLISH
BEGIN:VEVENT
DTSTAMP:20260422T225107Z
UID:12-1288025@gwcfellowship.org
DTSTART:20260927T163000Z
DTEND:20260927T173000Z
CLASS:PUBLIC
CREATED:20260422T142130
DESCRIPTION:Sunday Worship
LAST-MODIFIED:20260422T142130
LOCATION:1668 S. Sycamore St. Petersburg\, VA 23805
SUMMARY:Sunday Worship
URL;VALUE=URI:https://www.gwcfellowship.org/events/sunday-worship/2026-09-2
 7
END:VEVENT
END:VCALENDAR
