BEGIN:VCALENDAR
VERSION:2.0
PRODID:icalendar-ruby
CALSCALE:GREGORIAN
METHOD:PUBLISH
BEGIN:VEVENT
DTSTAMP:20260422T195653Z
UID:12-1287807@gwcfellowship.org
DTSTART:20260913T163000Z
DTEND:20260913T173000Z
CLASS:PUBLIC
CREATED:20260422T112607
DESCRIPTION:Sunday Worship
LAST-MODIFIED:20260422T112607
LOCATION:1668 S. Sycamore St. Petersburg\, VA 23805
SUMMARY:Sunday Worship
URL;VALUE=URI:https://www.gwcfellowship.org/events/sunday-worship/2026-09-1
 3
END:VEVENT
END:VCALENDAR
