BEGIN:VCALENDAR
VERSION:2.0
PRODID:icalendar-ruby
CALSCALE:GREGORIAN
METHOD:PUBLISH
BEGIN:VEVENT
DTSTAMP:20260422T183559Z
UID:12-1287806@gwcfellowship.org
DTSTART:20260906T163000Z
DTEND:20260906T173000Z
CLASS:PUBLIC
CREATED:20260422T112607
DESCRIPTION:Sunday Worship
LAST-MODIFIED:20260422T112607
LOCATION:1668 S. Sycamore St. Petersburg\, VA 23805
SUMMARY:Sunday Worship
URL;VALUE=URI:https://www.gwcfellowship.org/events/sunday-worship/2026-09-0
 6
END:VEVENT
END:VCALENDAR
