BEGIN:VCALENDAR
VERSION:2.0
PRODID:icalendar-ruby
CALSCALE:GREGORIAN
METHOD:PUBLISH
BEGIN:VEVENT
DTSTAMP:20260422T171619Z
UID:12-1287589@gwcfellowship.org
DTSTART:20260830T163000Z
DTEND:20260830T173000Z
CLASS:PUBLIC
CREATED:20260422T083130
DESCRIPTION:Sunday Worship
LAST-MODIFIED:20260422T083130
LOCATION:1668 S. Sycamore St. Petersburg\, VA 23805
SUMMARY:Sunday Worship
URL;VALUE=URI:https://www.gwcfellowship.org/events/sunday-worship/2026-08-3
 0
END:VEVENT
END:VCALENDAR
