BEGIN:VCALENDAR
VERSION:2.0
PRODID:icalendar-ruby
CALSCALE:GREGORIAN
METHOD:PUBLISH
BEGIN:VEVENT
DTSTAMP:20260422T125535Z
UID:12-1287370@gwcfellowship.org
DTSTART:20260809T163000Z
DTEND:20260809T173000Z
CLASS:PUBLIC
CREATED:20260422T053615
DESCRIPTION:Sunday Worship
LAST-MODIFIED:20260422T053615
LOCATION:1668 S. Sycamore St. Petersburg\, VA 23805
SUMMARY:Sunday Worship
URL;VALUE=URI:https://www.gwcfellowship.org/events/sunday-worship/2026-08-0
 9
END:VEVENT
END:VCALENDAR
