BEGIN:VCALENDAR
VERSION:2.0
PRODID:icalendar-ruby
CALSCALE:GREGORIAN
METHOD:PUBLISH
BEGIN:VEVENT
DTSTAMP:20260420T072526Z
UID:8-1284208@gwcfellowship.org
DTSTART:20260731T000000Z
DTEND:20260731T010000Z
CLASS:PUBLIC
CREATED:20260419T210345
DESCRIPTION:Join our Saturday Prayer call  313-209-8800 with the passcode 
 224074#
LAST-MODIFIED:20260419T210345
LOCATION:Conference Call  313-209-8800 Passcode 224074#
SUMMARY:Saturday Prayer
URL;VALUE=URI:https://www.gwcfellowship.org/events/saturday-prayer/2026-07-
 30
ATTACH;FILENAME=prayer.png;FMTTYPE=image/png:https://dq5pwpg1q8ru0.cloudfro
 nt.net/2025/05/08/17/25/07/41d3ef19-dd10-489f-8a30-6ddbcd9c8b3f/prayer.png
END:VEVENT
END:VCALENDAR
