BEGIN:VCALENDAR
VERSION:2.0
PRODID:icalendar-ruby
CALSCALE:GREGORIAN
METHOD:PUBLISH
BEGIN:VEVENT
DTSTAMP:20260420T053734Z
UID:9-1284284@gwcfellowship.org
DTSTART:20260724T010000Z
DTEND:20260724T020000Z
CLASS:PUBLIC
CREATED:20260419T210345
DESCRIPTION:Join us for weekly Bible Study. Call 313-209-8800 with the pass
 code 224074#
LAST-MODIFIED:20260419T210345
LOCATION:
SUMMARY:Bible Study
URL;VALUE=URI:https://www.gwcfellowship.org/events/bible-study/2026-07-23
ATTACH;FILENAME=bible-study.png;FMTTYPE=image/png:https://dq5pwpg1q8ru0.clo
 udfront.net/2025/05/08/17/24/21/99676230-800b-48cd-9578-af0f04c582bd/bible
 -study.png
END:VEVENT
END:VCALENDAR
